BEGIN:VCALENDAR
VERSION:2.0
PRODID:icalendar-ruby
CALSCALE:GREGORIAN
BEGIN:VEVENT
DTSTAMP:20260420T080926Z
UID:b19c37da-b5aa-4345-9108-4be7cf5b183a
DTSTART;VALUE=DATE:20200822
DTEND;VALUE=DATE:20200823
DESCRIPTION:毎日杯アマチュアゴルフ選手権ｉｎ茨城＜第4
 予選（一般）＞［案内ページ］\nhttps://compekun.com/tournamen
 ts/0UbJXBq79g
SUMMARY:毎日杯アマチュアゴルフ選手権ｉｎ茨城＜第4予選
 （一般）＞ 毎日杯アマチュアゴルフ選手権ｉｎ茨城＜
 第4予選（一般）＞
END:VEVENT
END:VCALENDAR
