BEGIN:VCALENDAR
VERSION:2.0
PRODID:icalendar-ruby
CALSCALE:GREGORIAN
BEGIN:VEVENT
DTSTAMP:20260420T080344Z
UID:d056ebf6-a8be-4c11-9b40-7cb8230fc547
DTSTART;VALUE=DATE:20230925
DTEND;VALUE=DATE:20230926
DESCRIPTION:【第49回 毎日杯決勝大会 女子の部 レジェンズ
 クラス】 茨城ゴルフ倶楽部［案内ページ］\nhttps://compek
 un.com/tournaments/0aFpfcTDLi
SUMMARY:【第49回 毎日杯決勝大会 女子の部 レジェンズク
 ラス】 茨城ゴルフ倶楽部 茨城ゴルフ倶楽部 西コース
END:VEVENT
END:VCALENDAR
