BEGIN:VCALENDAR
VERSION:2.0
PRODID:icalendar-ruby
CALSCALE:GREGORIAN
BEGIN:VEVENT
DTSTAMP:20260420T074549Z
UID:d0911721-421f-4456-ac0a-eae9c239caee
DTSTART;VALUE=DATE:20250622
DTEND;VALUE=DATE:20250623
DESCRIPTION:【第51回 毎日杯 第2予選 女子の部 レジェンズ
 クラス】 マナゴルフクラブ［案内ページ］\nhttps://compek
 un.com/tournaments/2E3AOc9zRg
SUMMARY:【第51回 毎日杯 第2予選 女子の部 レジェンズクラ
 ス】 マナゴルフクラブ マナゴルフクラブ
END:VEVENT
END:VCALENDAR
