BEGIN:VCALENDAR
VERSION:2.0
PRODID:icalendar-ruby
CALSCALE:GREGORIAN
BEGIN:VEVENT
DTSTAMP:20260420T073917Z
UID:0211334f-ae6d-4971-abdd-c79a963e31a7
DTSTART;VALUE=DATE:20240620
DTEND;VALUE=DATE:20240621
DESCRIPTION:【第50回 毎日杯 第2予選 女子の部 レジェンズ
 クラス】 新・西山荘カントリー倶楽部［案内ページ］\
 nhttps://compekun.com/tournaments/2i4FXaoOTE
SUMMARY:【第50回 毎日杯 第2予選 女子の部 レジェンズクラ
 ス】 新・西山荘カントリー倶楽部 新・西山荘カントリ
 ー倶楽部
END:VEVENT
END:VCALENDAR
