BEGIN:VCALENDAR
VERSION:2.0
PRODID:icalendar-ruby
CALSCALE:GREGORIAN
BEGIN:VEVENT
DTSTAMP:20260420T061328Z
UID:38eb4616-4868-43c3-bee1-2ce0968e6088
DTSTART;VALUE=DATE:20250807
DTEND;VALUE=DATE:20250808
DESCRIPTION:【第51回 毎日杯 第4予選 一般の部 シニアクラ
 ス】 江戸﨑カントリー俱楽部 東コース［案内ページ］
 \nhttps://compekun.com/tournaments/4H2PqlRb0U
SUMMARY:【第51回 毎日杯 第4予選 一般の部 シニアクラス】
  江戸﨑カントリー俱楽部 東コース 江戸﨑カントリー
 俱楽部 東コース
END:VEVENT
END:VCALENDAR
