BEGIN:VCALENDAR
VERSION:2.0
PRODID:icalendar-ruby
CALSCALE:GREGORIAN
BEGIN:VEVENT
DTSTAMP:20260420T061440Z
UID:ee32dff6-dd10-438b-92c0-6cd4e358953f
DTSTART;VALUE=DATE:20250807
DTEND;VALUE=DATE:20250808
DESCRIPTION:【第51回 毎日杯 第4予選 一般の部 レギュラー
 クラス】 江戸﨑カントリー俱楽部 東コース［案内ペー
 ジ］\nhttps://compekun.com/tournaments/4ou8gy23Y6
SUMMARY:【第51回 毎日杯 第4予選 一般の部 レギュラークラ
 ス】 江戸﨑カントリー俱楽部 東コース 江戸﨑カント
 リー俱楽部 東コース
END:VEVENT
END:VCALENDAR
