BEGIN:VCALENDAR
VERSION:2.0
PRODID:icalendar-ruby
CALSCALE:GREGORIAN
BEGIN:VEVENT
DTSTAMP:20260420T073142Z
UID:0a8dffea-23ca-4813-9fa3-15ad187c7e8d
DTSTART;VALUE=DATE:20240702
DTEND;VALUE=DATE:20240703
DESCRIPTION:【第50回 毎日杯 第3予選 一般の部 レギュラー
 クラス】 JGMやさと石岡ゴルフクラブ［案内ページ］\nht
 tps://compekun.com/tournaments/68yfedhPsI
SUMMARY:【第50回 毎日杯 第3予選 一般の部 レギュラークラ
 ス】 JGMやさと石岡ゴルフクラブ JGMやさと石岡ゴルフク
 ラブ
END:VEVENT
END:VCALENDAR
