BEGIN:VCALENDAR
VERSION:2.0
PRODID:icalendar-ruby
CALSCALE:GREGORIAN
BEGIN:VEVENT
DTSTAMP:20260420T073336Z
UID:b501db06-f500-4e80-828f-00c9c4a34407
DTSTART;VALUE=DATE:20240818
DTEND;VALUE=DATE:20240819
DESCRIPTION:【第50回 毎日杯 第5予選 一般の部 シニアクラ
 ス】 BOBOSカントリークラブ 久慈川コース［案内ページ
 ］\nhttps://compekun.com/tournaments/6Be0pc41bK
SUMMARY:【第50回 毎日杯 第5予選 一般の部 シニアクラス】
  BOBOSカントリークラブ 久慈川コース BOBOSカントリーク
 ラブ 久慈川コース
END:VEVENT
END:VCALENDAR
