BEGIN:VCALENDAR
VERSION:2.0
PRODID:icalendar-ruby
CALSCALE:GREGORIAN
BEGIN:VEVENT
DTSTAMP:20260420T073656Z
UID:6d599fd7-6323-4cc6-8f9f-6e89b0c535e7
DTSTART;VALUE=DATE:20240818
DTEND;VALUE=DATE:20240819
DESCRIPTION:【第50回 毎日杯 第5予選 女子の部 レジェンズ
 クラス】BOBOSカントリークラブ 久慈川コース［案内ペ
 ージ］\nhttps://compekun.com/tournaments/6zAXMdxn7K
SUMMARY:【第50回 毎日杯 第5予選 女子の部 レジェンズクラ
 ス】BOBOSカントリークラブ 久慈川コース BOBOSカントリ
 ークラブ 久慈川コース
END:VEVENT
END:VCALENDAR
