BEGIN:VCALENDAR
VERSION:2.0
PRODID:icalendar-ruby
CALSCALE:GREGORIAN
BEGIN:VEVENT
DTSTAMP:20260420T073222Z
UID:6ca1d88c-cfec-4a8a-b430-748c7ffd6491
DTSTART;VALUE=DATE:20240702
DTEND;VALUE=DATE:20240703
DESCRIPTION:【第50回 毎日杯 第3予選 一般の部 シニアクラ
 ス】 JGMやさと石岡ゴルフクラブ［案内ページ］\nhttps://
 compekun.com/tournaments/7p3iGToSk9
SUMMARY:【第50回 毎日杯 第3予選 一般の部 シニアクラス】
  JGMやさと石岡ゴルフクラブ JGMやさと石岡ゴルフクラブ
END:VEVENT
END:VCALENDAR
