BEGIN:VCALENDAR
VERSION:2.0
PRODID:icalendar-ruby
CALSCALE:GREGORIAN
BEGIN:VEVENT
DTSTAMP:20260420T073050Z
UID:288eacd6-2deb-412f-9be0-5d7df4ad3096
DTSTART;VALUE=DATE:20240620
DTEND;VALUE=DATE:20240621
DESCRIPTION:【第50回 毎日杯 第2予選 女子の部 レギュラー
 クラス】 新・西山荘カントリー倶楽部［案内ページ］\
 nhttps://compekun.com/tournaments/8ANyMne3Yw
SUMMARY:【第50回 毎日杯 第2予選 女子の部 レギュラークラ
 ス】 新・西山荘カントリー倶楽部 新・西山荘カントリ
 ー倶楽部
END:VEVENT
END:VCALENDAR
