BEGIN:VCALENDAR
VERSION:2.0
PRODID:icalendar-ruby
CALSCALE:GREGORIAN
BEGIN:VEVENT
DTSTAMP:20260420T093707Z
UID:b6d9ca31-6f01-4477-9554-2d29c777257d
DTSTART;VALUE=DATE:20240606
DTEND;VALUE=DATE:20240607
DESCRIPTION:【第50回 毎日杯 第1予選 一般の部 レギュラー
 クラス】 岩瀬桜川カントリークラブ［案内ページ］\nht
 tps://compekun.com/tournaments/G3Xyn51DNo
SUMMARY:【第50回 毎日杯 第1予選 一般の部 レギュラークラ
 ス】 岩瀬桜川カントリークラブ 岩瀬桜川カントリーク
 ラブ
END:VEVENT
END:VCALENDAR
