BEGIN:VCALENDAR
VERSION:2.0
PRODID:icalendar-ruby
CALSCALE:GREGORIAN
BEGIN:VEVENT
DTSTAMP:20260420T093004Z
UID:79c72d7c-641d-4d2d-8e66-c6a9dcefe113
DTSTART;VALUE=DATE:20230827
DTEND;VALUE=DATE:20230828
DESCRIPTION:【第49回 毎日杯 第5予選 女子の部 レジェンズ
 クラス】 金砂郷カントリークラブ［案内ページ］\nhttps
 ://compekun.com/tournaments/Ls02VU5dRc
SUMMARY:【第49回 毎日杯 第5予選 女子の部 レジェンズクラ
 ス】 金砂郷カントリークラブ 金砂郷カントリークラブ
END:VEVENT
END:VCALENDAR
