BEGIN:VCALENDAR
VERSION:2.0
PRODID:icalendar-ruby
CALSCALE:GREGORIAN
BEGIN:VEVENT
DTSTAMP:20260420T074909Z
UID:92c5d695-5a42-438f-9b43-727af7cfd9bc
DTSTART;VALUE=DATE:20230803
DTEND;VALUE=DATE:20230804
DESCRIPTION:【第49回 毎日杯 第4予選 一般の部 レギュラー
 クラス】 霞台カントリークラブ 筑波コース［案内ペー
 ジ］\nhttps://compekun.com/tournaments/MbSnNaPf4Q
SUMMARY:【第49回 毎日杯 第4予選 一般の部 レギュラークラ
 ス】 霞台カントリークラブ 筑波コース 霞台カントリ
 ークラブ 筑波コース
END:VEVENT
END:VCALENDAR
