BEGIN:VCALENDAR
VERSION:2.0
PRODID:icalendar-ruby
CALSCALE:GREGORIAN
BEGIN:VEVENT
DTSTAMP:20260420T074604Z
UID:daf1051b-4935-42d2-8da6-958a35d280bb
DTSTART;VALUE=DATE:20240702
DTEND;VALUE=DATE:20240703
DESCRIPTION:【第50回 毎日杯 第3予選 女子の部 レジェンズ
 クラス】 JGMやさと石岡ゴルフクラブ［案内ページ］\nht
 tps://compekun.com/tournaments/NwY6GqSd3Z
SUMMARY:【第50回 毎日杯 第3予選 女子の部 レジェンズクラ
 ス】 JGMやさと石岡ゴルフクラブ JGMやさと石岡ゴルフク
 ラブ
END:VEVENT
END:VCALENDAR
