BEGIN:VCALENDAR
VERSION:2.0
PRODID:icalendar-ruby
CALSCALE:GREGORIAN
BEGIN:VEVENT
DTSTAMP:20260420T092230Z
UID:a3f0982b-f704-4fbf-91cc-06aec8b1c9e3
DTSTART;VALUE=DATE:20230827
DTEND;VALUE=DATE:20230828
DESCRIPTION:【第49回 毎日杯 第5予選 一般の部 シニアクラ
 ス】 金砂郷カントリークラブ［案内ページ］\nhttps://com
 pekun.com/tournaments/OCyaZW1vU0
SUMMARY:【第49回 毎日杯 第5予選 一般の部 シニアクラス】
  金砂郷カントリークラブ 金砂郷カントリークラブ
END:VEVENT
END:VCALENDAR
