BEGIN:VCALENDAR
VERSION:2.0
PRODID:icalendar-ruby
CALSCALE:GREGORIAN
BEGIN:VEVENT
DTSTAMP:20260420T073637Z
UID:42dea7e3-382f-4599-ab91-29867f4a4781
DTSTART;VALUE=DATE:20240818
DTEND;VALUE=DATE:20240819
DESCRIPTION:【第50回 毎日杯 第5予選 女子の部 レギュラー
 クラス】BOBOSカントリークラブ 久慈川コース［案内ペ
 ージ］\nhttps://compekun.com/tournaments/QOzeHu423c
SUMMARY:【第50回 毎日杯 第5予選 女子の部 レギュラークラ
 ス】BOBOSカントリークラブ 久慈川コース BOBOSカントリ
 ークラブ 久慈川コース
END:VEVENT
END:VCALENDAR
