BEGIN:VCALENDAR
VERSION:2.0
PRODID:icalendar-ruby
CALSCALE:GREGORIAN
BEGIN:VEVENT
DTSTAMP:20260420T074156Z
UID:97295529-e494-4132-84f4-e82102736839
DTSTART;VALUE=DATE:20250622
DTEND;VALUE=DATE:20250623
DESCRIPTION:【第51回 毎日杯 第2予選 一般の部 レギュラー
 クラス】 マナゴルフクラブ［案内ページ］\nhttps://compek
 un.com/tournaments/YqFyGjNB21
SUMMARY:【第51回 毎日杯 第2予選 一般の部 レギュラークラ
 ス】 マナゴルフクラブ マナゴルフクラブ
END:VEVENT
END:VCALENDAR
