BEGIN:VCALENDAR
VERSION:2.0
PRODID:icalendar-ruby
CALSCALE:GREGORIAN
BEGIN:VEVENT
DTSTAMP:20260420T073820Z
UID:e98ee65b-d503-4228-bd63-a105e2114db2
DTSTART;VALUE=DATE:20240802
DTEND;VALUE=DATE:20240803
DESCRIPTION:【第50回 毎日杯 第4予選 一般の部 レギュラー
 クラス】 出島ゴルフクラブ［案内ページ］\nhttps://compek
 un.com/tournaments/ZLtMR8f3Bz
SUMMARY:【第50回 毎日杯 第4予選 一般の部 レギュラークラ
 ス】 出島ゴルフクラブ 出島ゴルフクラブ
END:VEVENT
END:VCALENDAR
