BEGIN:VCALENDAR
VERSION:2.0
PRODID:icalendar-ruby
CALSCALE:GREGORIAN
BEGIN:VEVENT
DTSTAMP:20260420T074120Z
UID:8927ebb2-2f20-485b-909e-f7fefc0a036a
DTSTART;VALUE=DATE:20240818
DTEND;VALUE=DATE:20240819
DESCRIPTION:【第50回 毎日杯 第5予選 一般の部 レギュラー
 クラス】 BOBOSカントリークラブ 久慈川コース［案内ペ
 ージ］\nhttps://compekun.com/tournaments/Zf6vKwMUqL
SUMMARY:【第50回 毎日杯 第5予選 一般の部 レギュラークラ
 ス】 BOBOSカントリークラブ 久慈川コース BOBOSカントリ
 ークラブ 久慈川コース
END:VEVENT
END:VCALENDAR
