BEGIN:VCALENDAR
VERSION:2.0
PRODID:icalendar-ruby
CALSCALE:GREGORIAN
BEGIN:VEVENT
DTSTAMP:20260420T054427Z
UID:89f8bbaa-7c31-4888-870f-64b4c0e1b4d1
DTSTART;VALUE=DATE:20250830
DTEND;VALUE=DATE:20250831
DESCRIPTION:2025年 第51回 毎日杯アマチュアゴルフ選手権 in 
 茨城 予選⑤ 8月30日 金砂郷カントリークラブ（女子の
 部）［案内ページ］\nhttps://compekun.com/tournaments/ajHMJ1gDLh
SUMMARY:2025年 第51回 毎日杯アマチュアゴルフ選手権 in 茨
 城 予選⑤ 8月30日 金砂郷カントリークラブ（女子の部
 ） 金砂郷カントリークラブ
END:VEVENT
END:VCALENDAR
