BEGIN:VCALENDAR
VERSION:2.0
PRODID:icalendar-ruby
CALSCALE:GREGORIAN
BEGIN:VEVENT
DTSTAMP:20260420T080747Z
UID:75c3b7b6-1d62-4e35-9d26-da1b76624c54
DTSTART;VALUE=DATE:20230925
DTEND;VALUE=DATE:20230926
DESCRIPTION:【第49回 毎日杯決勝大会 一般の部 レギュラー
 クラス】 茨城ゴルフ倶楽部［案内ページ］\nhttps://compek
 un.com/tournaments/bc8oVjDaYO
SUMMARY:【第49回 毎日杯決勝大会 一般の部 レギュラーク
 ラス】 茨城ゴルフ倶楽部 茨城ゴルフ倶楽部 西コース
END:VEVENT
END:VCALENDAR
