BEGIN:VCALENDAR
VERSION:2.0
PRODID:icalendar-ruby
CALSCALE:GREGORIAN
BEGIN:VEVENT
DTSTAMP:20260420T073702Z
UID:3ec574de-f9dd-45af-982e-85d06724937c
DTSTART;VALUE=DATE:20240702
DTEND;VALUE=DATE:20240703
DESCRIPTION:【第50回 毎日杯 第3予選 女子の部 レギュラー
 クラス】 JGMやさと石岡ゴルフクラブ［案内ページ］\nht
 tps://compekun.com/tournaments/c1d0ILyplj
SUMMARY:【第50回 毎日杯 第3予選 女子の部 レギュラークラ
 ス】 JGMやさと石岡ゴルフクラブ JGMやさと石岡ゴルフク
 ラブ
END:VEVENT
END:VCALENDAR
