BEGIN:VCALENDAR
VERSION:2.0
PRODID:icalendar-ruby
CALSCALE:GREGORIAN
BEGIN:VEVENT
DTSTAMP:20260420T092044Z
UID:77c6cc5f-bbbf-45d6-8924-9f31474efcae
DTSTART;VALUE=DATE:20230721
DTEND;VALUE=DATE:20230722
DESCRIPTION:【第49回 毎日杯 第3予選 女子の部 レジェンズ
 クラス】 内原カントリー倶楽部［案内ページ］\nhttps://
 compekun.com/tournaments/cv7yTq59ta
SUMMARY:【第49回 毎日杯 第3予選 女子の部 レジェンズクラ
 ス】 内原カントリー倶楽部 内原カントリー倶楽部
END:VEVENT
END:VCALENDAR
