BEGIN:VCALENDAR
VERSION:2.0
PRODID:icalendar-ruby
CALSCALE:GREGORIAN
BEGIN:VEVENT
DTSTAMP:20260420T062102Z
UID:6a012a61-91d6-4041-b449-360dd1ad7157
DTSTART;VALUE=DATE:20250715
DTEND;VALUE=DATE:20250716
DESCRIPTION:【第51回 毎日杯 第3予選 一般の部 レギュラー
 クラス】 太平洋クラブ大洗シャーウッドコース［案内
 ページ］\nhttps://compekun.com/tournaments/df8aORnIck
SUMMARY:【第51回 毎日杯 第3予選 一般の部 レギュラークラ
 ス】 太平洋クラブ大洗シャーウッドコース 太平洋クラ
 ブ大洗シャーウッドコース
END:VEVENT
END:VCALENDAR
