BEGIN:VCALENDAR
VERSION:2.0
PRODID:icalendar-ruby
CALSCALE:GREGORIAN
BEGIN:VEVENT
DTSTAMP:20260420T062419Z
UID:7b9be2f1-7c91-485f-819a-9ac1ad8edfd2
DTSTART;VALUE=DATE:20250929
DTEND;VALUE=DATE:20250930
DESCRIPTION:【第51回 毎日杯決勝大会 一般の部 シニアクラ
 ス】 龍ヶ崎カントリー俱楽部［案内ページ］\nhttps://com
 pekun.com/tournaments/djPNbpI3TW
SUMMARY:【第51回 毎日杯決勝大会 一般の部 シニアクラス
 】 龍ヶ崎カントリー俱楽部 龍ヶ崎カントリー俱楽部
END:VEVENT
END:VCALENDAR
