BEGIN:VCALENDAR
VERSION:2.0
PRODID:icalendar-ruby
CALSCALE:GREGORIAN
BEGIN:VEVENT
DTSTAMP:20260420T092816Z
UID:bd6b91cf-2c43-4b15-a491-2f98a0ca34e6
DTSTART;VALUE=DATE:20230803
DTEND;VALUE=DATE:20230804
DESCRIPTION:【第49回 毎日杯 第4予選 女子の部 レギュラー
 クラス】 霞台カントリークラブ 筑波コース［案内ペー
 ジ］\nhttps://compekun.com/tournaments/k6XLOxN1cK
SUMMARY:【第49回 毎日杯 第4予選 女子の部 レギュラークラ
 ス】 霞台カントリークラブ 筑波コース 霞台カントリ
 ークラブ 筑波コース
END:VEVENT
END:VCALENDAR
