BEGIN:VCALENDAR
VERSION:2.0
PRODID:icalendar-ruby
CALSCALE:GREGORIAN
BEGIN:VEVENT
DTSTAMP:20260420T073637Z
UID:a651a9e8-3214-4f74-a8bd-2323dc250b1e
DTSTART;VALUE=DATE:20240620
DTEND;VALUE=DATE:20240621
DESCRIPTION:【第50回 毎日杯 第2予選 一般の部 シニアクラ
 ス】 新・西山荘カントリー倶楽部［案内ページ］\nhttps
 ://compekun.com/tournaments/lvRET9tJYZ
SUMMARY:【第50回 毎日杯 第2予選 一般の部 シニアクラス】
  新・西山荘カントリー倶楽部 新・西山荘カントリー倶
 楽部
END:VEVENT
END:VCALENDAR
