BEGIN:VCALENDAR
VERSION:2.0
PRODID:icalendar-ruby
CALSCALE:GREGORIAN
BEGIN:VEVENT
DTSTAMP:20260420T094039Z
UID:750b29ab-51d4-43a2-8f3c-2357de333c1c
DTSTART;VALUE=DATE:20230925
DTEND;VALUE=DATE:20230926
DESCRIPTION:【第49回 毎日杯決勝大会 一般の部 シニアクラ
 ス】 茨城ゴルフ倶楽部［案内ページ］\nhttps://compekun.com
 /tournaments/mDqTK6GhyI
SUMMARY:【第49回 毎日杯決勝大会 一般の部 シニアクラス
 】 茨城ゴルフ倶楽部 茨城ゴルフ倶楽部 西コース
END:VEVENT
END:VCALENDAR
