BEGIN:VCALENDAR
VERSION:2.0
PRODID:icalendar-ruby
CALSCALE:GREGORIAN
BEGIN:VEVENT
DTSTAMP:20260420T032228Z
UID:c6364ee7-d276-4c38-8469-8a32e5325120
DTSTART;VALUE=DATE:20210927
DTEND;VALUE=DATE:20210928
DESCRIPTION:2021年 第47回 毎日杯アマチュアゴルフ選手権 in 
 茨城 決勝 女子［案内ページ］\nhttps://compekun.com/tournament
 s/neVYfjGS7k
SUMMARY:2021年 第47回 毎日杯アマチュアゴルフ選手権 in 茨
 城 決勝 女子 決勝
END:VEVENT
END:VCALENDAR
