BEGIN:VCALENDAR
VERSION:2.0
PRODID:icalendar-ruby
CALSCALE:GREGORIAN
BEGIN:VEVENT
DTSTAMP:20260420T061653Z
UID:086cb784-1ccb-4a45-99fb-eaf9179a0e8b
DTSTART;VALUE=DATE:20250807
DTEND;VALUE=DATE:20250808
DESCRIPTION:【第51回 毎日杯 第4予選 女子の部 レジェンズ
 クラス】江戸﨑カントリー俱楽部 東コース［案内ペー
 ジ］\nhttps://compekun.com/tournaments/o9WbjtK3P7
SUMMARY:【第51回 毎日杯 第4予選 女子の部 レジェンズクラ
 ス】江戸﨑カントリー俱楽部 東コース 江戸﨑カントリ
 ー俱楽部 東コース
END:VEVENT
END:VCALENDAR
