BEGIN:VCALENDAR
VERSION:2.0
PRODID:icalendar-ruby
CALSCALE:GREGORIAN
BEGIN:VEVENT
DTSTAMP:20260420T031120Z
UID:6aa35c39-e31b-4db2-8c11-41313711ddf8
DTSTART;VALUE=DATE:20240702
DTEND;VALUE=DATE:20240703
DESCRIPTION:2024年 第50回 毎日杯アマチュアゴルフ選手権 in 
 茨城 予選③ 7月2日 JGMやさと石岡ゴルフクラブ［案内ペ
 ージ］\nhttps://compekun.com/tournaments/ogmju6M3et
SUMMARY:2024年 第50回 毎日杯アマチュアゴルフ選手権 in 茨
 城 予選③ 7月2日 JGMやさと石岡ゴルフクラブ JGMやさと
 石岡ゴルフクラブ
END:VEVENT
END:VCALENDAR
