BEGIN:VCALENDAR
VERSION:2.0
PRODID:icalendar-ruby
CALSCALE:GREGORIAN
BEGIN:VEVENT
DTSTAMP:20260420T073330Z
UID:074193f3-8de5-44a3-b836-98e0101f9db8
DTSTART;VALUE=DATE:20240802
DTEND;VALUE=DATE:20240803
DESCRIPTION:【第50回 毎日杯 第4予選 女子の部 レギュラー
 クラス】出島ゴルフクラブ［案内ページ］\nhttps://compeku
 n.com/tournaments/piN2hjb9CK
SUMMARY:【第50回 毎日杯 第4予選 女子の部 レギュラークラ
 ス】出島ゴルフクラブ 出島ゴルフクラブ
END:VEVENT
END:VCALENDAR
