BEGIN:VCALENDAR
VERSION:2.0
PRODID:icalendar-ruby
CALSCALE:GREGORIAN
BEGIN:VEVENT
DTSTAMP:20260420T093727Z
UID:debe85d2-da46-4005-96e7-0d9f9c0c31e7
DTSTART;VALUE=DATE:20230827
DTEND;VALUE=DATE:20230828
DESCRIPTION:【第49回 毎日杯 第5予選 女子の部 レギュラー
 クラス】 金砂郷カントリークラブ［案内ページ］\nhttps
 ://compekun.com/tournaments/qfYCMLGi79
SUMMARY:【第49回 毎日杯 第5予選 女子の部 レギュラークラ
 ス】 金砂郷カントリークラブ 金砂郷カントリークラブ
END:VEVENT
END:VCALENDAR
