BEGIN:VCALENDAR
VERSION:2.0
PRODID:icalendar-ruby
CALSCALE:GREGORIAN
BEGIN:VEVENT
DTSTAMP:20260420T092604Z
UID:85e0256a-4dc3-4e90-a10a-475ba31be53b
DTSTART;VALUE=DATE:20240606
DTEND;VALUE=DATE:20240607
DESCRIPTION:【第50回 毎日杯 第1予選 一般の部 シニアクラ
 ス】 岩瀬桜川カントリークラブ［案内ページ］\nhttps://
 compekun.com/tournaments/qialAwfNLE
SUMMARY:【第50回 毎日杯 第1予選 一般の部 シニアクラス】
  岩瀬桜川カントリークラブ 岩瀬桜川カントリークラブ
END:VEVENT
END:VCALENDAR
