BEGIN:VCALENDAR
VERSION:2.0
PRODID:icalendar-ruby
CALSCALE:GREGORIAN
BEGIN:VEVENT
DTSTAMP:20260420T073330Z
UID:b953970b-0e80-4735-a2f6-396b8ed5af73
DTSTART;VALUE=DATE:20240802
DTEND;VALUE=DATE:20240803
DESCRIPTION:【第50回 毎日杯 第3予選 一般の部 シニアクラ
 ス】出島ゴルフクラブ［案内ページ］\nhttps://compekun.com/
 tournaments/t9XGUAFvPk
SUMMARY:【第50回 毎日杯 第3予選 一般の部 シニアクラス】
 出島ゴルフクラブ 出島ゴルフクラブ
END:VEVENT
END:VCALENDAR
