BEGIN:VCALENDAR
VERSION:2.0
PRODID:icalendar-ruby
CALSCALE:GREGORIAN
BEGIN:VEVENT
DTSTAMP:20260420T061454Z
UID:28c82201-a621-4125-b652-b96d0eeaffff
DTSTART;VALUE=DATE:20250929
DTEND;VALUE=DATE:20250930
DESCRIPTION:【第51回 毎日杯決勝大会 女子の部 レジェンズ
 クラス】 龍ヶ崎カントリー俱楽部［案内ページ］\nhttps
 ://compekun.com/tournaments/tJnKl1TWbF
SUMMARY:【第51回 毎日杯決勝大会 女子の部 レジェンズク
 ラス】 龍ヶ崎カントリー俱楽部 龍ヶ崎カントリー俱楽
 部
END:VEVENT
END:VCALENDAR
