BEGIN:VCALENDAR
VERSION:2.0
PRODID:icalendar-ruby
CALSCALE:GREGORIAN
BEGIN:VEVENT
DTSTAMP:20260420T092756Z
UID:a2f7bd01-09fd-4a89-b3ab-0b17459a7cfb
DTSTART;VALUE=DATE:20250807
DTEND;VALUE=DATE:20250808
DESCRIPTION:2025年 第51回 毎日杯アマチュアゴルフ選手権 in 
 茨城 予選④ 8月7日 江戸﨑カントリー俱楽部 東コース
 （女子の部）［案内ページ］\nhttps://compekun.com/tournaments/
 uaFVHn8lBR
SUMMARY:2025年 第51回 毎日杯アマチュアゴルフ選手権 in 茨
 城 予選④ 8月7日 江戸﨑カントリー俱楽部 東コース（
 女子の部） 江戸﨑カントリー俱楽部 東コース
END:VEVENT
END:VCALENDAR
