BEGIN:VCALENDAR
VERSION:2.0
PRODID:icalendar-ruby
CALSCALE:GREGORIAN
BEGIN:VEVENT
DTSTAMP:20260420T061353Z
UID:ede3dd86-85bf-44ee-9160-4d49ffc771a8
DTSTART;VALUE=DATE:20250929
DTEND;VALUE=DATE:20250930
DESCRIPTION:【第51回 毎日杯決勝大会 女子の部 レギュラー
 クラス】 龍ヶ崎カントリー俱楽部［案内ページ］\nhttps
 ://compekun.com/tournaments/vRJThMFUps
SUMMARY:【第51回 毎日杯決勝大会 女子の部 レギュラーク
 ラス】 龍ヶ崎カントリー俱楽部 龍ヶ崎カントリー俱楽
 部
END:VEVENT
END:VCALENDAR
