BEGIN:VCALENDAR
VERSION:2.0
PRODID:icalendar-ruby
CALSCALE:GREGORIAN
BEGIN:VEVENT
DTSTAMP:20260420T075402Z
UID:9d09263c-bcad-4927-9548-e4831b3d62d3
DTSTART;VALUE=DATE:20240909
DTEND;VALUE=DATE:20240910
DESCRIPTION:【第50回 毎日杯決勝大会 一般の部 レギュラー
 クラス】 茨城ゴルフ倶楽部［案内ページ］\nhttps://compek
 un.com/tournaments/xO4jdzrKG3
SUMMARY:【第50回 毎日杯決勝大会 一般の部 レギュラーク
 ラス】 茨城ゴルフ倶楽部 茨城ゴルフ倶楽部
END:VEVENT
END:VCALENDAR
