BEGIN:VCALENDAR
VERSION:2.0
PRODID:icalendar-ruby
CALSCALE:GREGORIAN
BEGIN:VEVENT
DTSTAMP:20260420T091838Z
UID:d1a76b32-646c-4a1e-8963-0d21903c8e26
DTSTART;VALUE=DATE:20250622
DTEND;VALUE=DATE:20250623
DESCRIPTION:2025年 第51回 毎日杯アマチュアゴルフ選手権 in 
 茨城 予選② 6月22日 マナゴルフクラブ［案内ページ］\n
 https://compekun.com/tournaments/xirAkFzDMN
SUMMARY:2025年 第51回 毎日杯アマチュアゴルフ選手権 in 茨
 城 予選② 6月22日 マナゴルフクラブ マナゴルフクラブ
END:VEVENT
END:VCALENDAR
