BEGIN:VCALENDAR
VERSION:2.0
PRODID:icalendar-ruby
CALSCALE:GREGORIAN
BEGIN:VEVENT
DTSTAMP:20260420T073637Z
UID:e854df41-7702-4dee-b207-2d7446c0983d
DTSTART;VALUE=DATE:20240909
DTEND;VALUE=DATE:20240910
DESCRIPTION:【第50回 毎日杯決勝大会 女子の部 レジェンズ
 クラス】 茨城ゴルフ倶楽部［案内ページ］\nhttps://compek
 un.com/tournaments/zolF3IdA2w
SUMMARY:【第50回 毎日杯決勝大会 女子の部 レジェンズク
 ラス】 茨城ゴルフ倶楽部 茨城ゴルフ倶楽部
END:VEVENT
END:VCALENDAR
